BEGIN:VCALENDAR
VERSION:2.0
PRODID:-//wp-events-plugin.com//5.99912//EN
TZID:Europe/Berlin
X-WR-TIMEZONE:Europe/Berlin
BEGIN:VEVENT
UID:0-261@honau.albverein.eu
DTSTART;TZID=Europe/Berlin:20260503T103000
DTEND;TZID=Europe/Berlin:20260503T180000
DTSTAMP:20260412T123210Z
URL:https://honau.albverein.eu/events/einladung-zur-e-bike-tour-3/
SUMMARY:Einladung zur E-Bike Tour
DESCRIPTION:&nbsp\;\n\n\n\nDer Albverein Honau lädt herzlich zu einer gem
 ütlichen E‑Bike‑Tour durch den ehemaligen Truppenübungsplatz Münsin
 gen ein. Geführt wird die Tour von unseren Guides Klaus Strycek und Hans 
 Briese.\nTreffpunkt\n10.30 Uhr am Wanderparkplatz Trailfinger Säge\n\nTou
 rverlauf\n\nDie rund 30 Kilometer lange Rundtour startet am Bahnhof Münsi
 ngen und führt überwiegend über asphaltierte Wege (ca. 85 %) sowie gut 
 befahrbare Schotterwege (ca. 15 %). Unsere Route führt zunächst ins hist
 orische Dorf Gruorn und anschließend durch die parkartige Weidelandschaft
  des ehemaligen Truppenübungsplatzes. Weiter geht es zu den Aussichtstür
 men Hursch und Sternberg\, bevor wir über Auingen wieder zum Ausgangspunk
 t zurückkehren. Unterwegs legen wir ausreichend Vesper- und Trinkpausen 
 ein. Den Abschluss bildet eine gemeinsame Einkehr gegen 15.00 Uhr in Auing
 en oder Münsingen.\n\nAusrüstung\n\nRadhelm - Wettergerechte Kleidung - 
 Rucksackvesper/ Getränke\n\nHinweis\n\nBei schlechtem Wetter (Regen) fäl
 lt die E-Bike-Tour aus!\n\nWeitere Infos\n\n 	Klaus Strycek - Mobil 01522 
 21963581\n 	Hans Briese - Mobil 0177 2966359\n\n&nbsp\;
ATTACH;FMTTYPE=image/jpeg:https://honau.albverein.eu/wp-content/uploads/si
 tes/300/2026/04/E-Bike-Tour-Muensingen-Flyer-2026-1.jpg
LOCATION:Truppenübungsplatz Münsingen\, wanderparkplatz Trailfinger Säge
 \, Gutsbezirk Münsingen\, BW\, 72525\, Münsingen\, Deutschland
GEO:48.435825;9.508744
X-APPLE-STRUCTURED-LOCATION;VALUE=URI;X-ADDRESS=wanderparkplatz Trailfinger
  Säge\, Gutsbezirk Münsingen\, BW\, 72525\, Münsingen\, Deutschland;X-A
 PPLE-RADIUS=100;X-TITLE=Truppenübungsplatz Münsingen:geo:48.435825,9.508
 744
END:VEVENT
BEGIN:VTIMEZONE
TZID:Europe/Berlin
X-LIC-LOCATION:Europe/Berlin
BEGIN:DAYLIGHT
DTSTART:20260329T030000
TZOFFSETFROM:+0100
TZOFFSETTO:+0200
TZNAME:CEST
END:DAYLIGHT
END:VTIMEZONE
END:VCALENDAR