BEGIN:VCALENDAR
VERSION:2.0
PRODID:-//wp-events-plugin.com//5.99912//EN
TZID:Europe/Berlin
X-WR-TIMEZONE:Europe/Berlin
BEGIN:VEVENT
UID:0-260@honau.albverein.eu
DTSTART;TZID=Europe/Berlin:20260430T180000
DTEND;TZID=Europe/Berlin:20260430T203000
DTSTAMP:20260412T123523Z
URL:https://honau.albverein.eu/events/einladung-zum-maibaum-hock/
SUMMARY:Einladung zum Maibaum-Hock
DESCRIPTION:„Im Maiengrün erblüht die Zeit\, der Maibaum bringt uns Fre
 ud‘ und Heiterkeit. So hoch er ragt\, so fest er steht\, der Maibaum uns
 er Herz bewegt. Im Glanz der Bänder\, bunt und fein\, laden wir zum frohe
 n Beisammensein.“\n\n\n\nWir laden euch herzlich zu unserem traditionell
 en Maibaum-Hock ein.\n\nWann: Donnerstag\, 30. April 2026 – ab 18.00 Uhr
 \n\nWo: Am Freibad Honau\n\nFür euer leibliches Wohl ist mit Grillwurst u
 nd Getränken bestens gesorgt!\n\nLasst uns gemeinsam fröhliche Stunden v
 erbringen und den Maibaum in seiner bunten Pracht bewundern.\n\nWir freuen
  uns auf euren Besuch!\n\n&nbsp\;
ATTACH;FMTTYPE=image/jpeg:https://honau.albverein.eu/wp-content/uploads/si
 tes/300/2026/04/Maibaum-Hock-2026-1.jpg
LOCATION:SAV Stüble\, Heerstraße 39\, Lichtenstein-Honau\, BW\, 72805\, L
 ichtenstein \, Deutschland
GEO:48.4109573;9.263010200000053
X-APPLE-STRUCTURED-LOCATION;VALUE=URI;X-ADDRESS=Heerstraße 39\, Lichtenste
 in-Honau\, BW\, 72805\, Lichtenstein \, Deutschland;X-APPLE-RADIUS=100;X-T
 ITLE=SAV Stüble:geo:48.4109573,9.263010200000053
END:VEVENT
BEGIN:VTIMEZONE
TZID:Europe/Berlin
X-LIC-LOCATION:Europe/Berlin
BEGIN:DAYLIGHT
DTSTART:20260329T030000
TZOFFSETFROM:+0100
TZOFFSETTO:+0200
TZNAME:CEST
END:DAYLIGHT
END:VTIMEZONE
END:VCALENDAR